BEGIN:VCALENDAR
VERSION:2.0
PRODID:-//DA Rathonda - ECPv6.0.12//NONSGML v1.0//EN
CALSCALE:GREGORIAN
METHOD:PUBLISH
X-ORIGINAL-URL:https://rathonda.darshanacademy.org
X-WR-CALDESC:Events for DA Rathonda
REFRESH-INTERVAL;VALUE=DURATION:PT1H
X-Robots-Tag:noindex
X-PUBLISHED-TTL:PT1H
BEGIN:VTIMEZONE
TZID:America/Los_Angeles
BEGIN:DAYLIGHT
TZOFFSETFROM:-0800
TZOFFSETTO:-0700
TZNAME:PDT
DTSTART:20230312T100000
END:DAYLIGHT
BEGIN:STANDARD
TZOFFSETFROM:-0700
TZOFFSETTO:-0800
TZNAME:PST
DTSTART:20231105T090000
END:STANDARD
BEGIN:DAYLIGHT
TZOFFSETFROM:-0800
TZOFFSETTO:-0700
TZNAME:PDT
DTSTART:20240310T100000
END:DAYLIGHT
BEGIN:STANDARD
TZOFFSETFROM:-0700
TZOFFSETTO:-0800
TZNAME:PST
DTSTART:20241103T090000
END:STANDARD
END:VTIMEZONE
BEGIN:VEVENT
DTSTART;TZID=America/Los_Angeles:20240326T000000
DTEND;TZID=America/Los_Angeles:20240326T000000
DTSTAMP:20260422T192131
CREATED:20230510T075041Z
LAST-MODIFIED:20230510T075041Z
UID:3786-1711411200-1711411200@rathonda.darshanacademy.org
SUMMARY:PTM (ALL CLASSES)
DESCRIPTION:
URL:https://rathonda.darshanacademy.org/event/ptm-all-classes-4/
CATEGORIES:PTM
END:VEVENT
BEGIN:VEVENT
DTSTART;TZID=America/Los_Angeles:20240323T000000
DTEND;TZID=America/Los_Angeles:20240323T000000
DTSTAMP:20260422T192131
CREATED:20230510T075041Z
LAST-MODIFIED:20230510T075041Z
UID:3785-1711152000-1711152000@rathonda.darshanacademy.org
SUMMARY:FOURTH SATURDAY
DESCRIPTION:
URL:https://rathonda.darshanacademy.org/event/fourth-saturday-8/
CATEGORIES:HOLIDAY
END:VEVENT
BEGIN:VEVENT
DTSTART;TZID=America/Los_Angeles:20240306T000000
DTEND;TZID=America/Los_Angeles:20240318T000000
DTSTAMP:20260422T192131
CREATED:20230510T075041Z
LAST-MODIFIED:20230510T075041Z
UID:3784-1709683200-1710720000@rathonda.darshanacademy.org
SUMMARY:ASSESSMENT - IV CLASSES (I-V) / TERM - II (VI-VII)
DESCRIPTION:
URL:https://rathonda.darshanacademy.org/event/assessment-iv-classes-i-v-term-ii-vi-vii/
CATEGORIES:EXAMINATION
END:VEVENT
BEGIN:VEVENT
DTSTART;TZID=America/Los_Angeles:20240224T000000
DTEND;TZID=America/Los_Angeles:20240224T000000
DTSTAMP:20260422T192131
CREATED:20230510T075041Z
LAST-MODIFIED:20230510T075041Z
UID:3783-1708732800-1708732800@rathonda.darshanacademy.org
SUMMARY:FOURTH SATURDAY
DESCRIPTION:
URL:https://rathonda.darshanacademy.org/event/fourth-saturday-7/
CATEGORIES:HOLIDAY
END:VEVENT
BEGIN:VEVENT
DTSTART;TZID=America/Los_Angeles:20240210T000000
DTEND;TZID=America/Los_Angeles:20240210T000000
DTSTAMP:20260422T192131
CREATED:20230510T075041Z
LAST-MODIFIED:20230510T075041Z
UID:3782-1707523200-1707523200@rathonda.darshanacademy.org
SUMMARY:BOOK COVER MAKING COMPETITION (III-VII)
DESCRIPTION:
URL:https://rathonda.darshanacademy.org/event/book-cover-making-competition-iii-vii/
CATEGORIES:EVENT
END:VEVENT
BEGIN:VEVENT
DTSTART;TZID=America/Los_Angeles:20240206T000000
DTEND;TZID=America/Los_Angeles:20240206T000000
DTSTAMP:20260422T192131
CREATED:20230510T075018Z
LAST-MODIFIED:20230510T075018Z
UID:3781-1707177600-1707177600@rathonda.darshanacademy.org
SUMMARY:BIRTHDAY OF SANT KIRPAL SINGH JI MAHARAJ
DESCRIPTION:
URL:https://rathonda.darshanacademy.org/event/birthday-of-sant-kirpal-singh-ji-maharaj/
CATEGORIES:HOLIDAY
END:VEVENT
BEGIN:VEVENT
DTSTART;TZID=America/Los_Angeles:20240203T000000
DTEND;TZID=America/Los_Angeles:20240203T000000
DTSTAMP:20260422T192131
CREATED:20230510T075018Z
LAST-MODIFIED:20230510T075018Z
UID:3780-1706918400-1706918400@rathonda.darshanacademy.org
SUMMARY:POEM RECITATION (KINDER GARTEN)
DESCRIPTION:
URL:https://rathonda.darshanacademy.org/event/poem-recitation-kinder-garten/
CATEGORIES:EVENT
END:VEVENT
BEGIN:VEVENT
DTSTART;TZID=America/Los_Angeles:20240201T000000
DTEND;TZID=America/Los_Angeles:20240206T000000
DTSTAMP:20260422T192131
CREATED:20230510T075018Z
LAST-MODIFIED:20230510T075018Z
UID:3779-1706745600-1707177600@rathonda.darshanacademy.org
SUMMARY:KIRPAL WEEK OF LOVING KINDNESS
DESCRIPTION:
URL:https://rathonda.darshanacademy.org/event/kirpal-week-of-loving-kindness/
CATEGORIES:EVENT
END:VEVENT
BEGIN:VEVENT
DTSTART;TZID=America/Los_Angeles:20240127T000000
DTEND;TZID=America/Los_Angeles:20240127T000000
DTSTAMP:20260422T192131
CREATED:20230510T075018Z
LAST-MODIFIED:20230510T075018Z
UID:3778-1706313600-1706313600@rathonda.darshanacademy.org
SUMMARY:FOURTH SATURDAY
DESCRIPTION:
URL:https://rathonda.darshanacademy.org/event/fourth-saturday-6/
CATEGORIES:HOLIDAY
END:VEVENT
BEGIN:VEVENT
DTSTART;TZID=America/Los_Angeles:20240126T000000
DTEND;TZID=America/Los_Angeles:20240126T000000
DTSTAMP:20260422T192131
CREATED:20230510T075018Z
LAST-MODIFIED:20230510T075018Z
UID:3777-1706227200-1706227200@rathonda.darshanacademy.org
SUMMARY:REPUBLIC DAY  CELEBRATION
DESCRIPTION:
URL:https://rathonda.darshanacademy.org/event/republic-day-celebration/
CATEGORIES:HOLIDAY
END:VEVENT
BEGIN:VEVENT
DTSTART;TZID=America/Los_Angeles:20240120T000000
DTEND;TZID=America/Los_Angeles:20240120T000000
DTSTAMP:20260422T192131
CREATED:20230510T075007Z
LAST-MODIFIED:20230510T075007Z
UID:3776-1705708800-1705708800@rathonda.darshanacademy.org
SUMMARY:SPORTS DAY CELEBRATION
DESCRIPTION:
URL:https://rathonda.darshanacademy.org/event/sports-day-celebration/
CATEGORIES:EVENT
END:VEVENT
BEGIN:VEVENT
DTSTART;TZID=America/Los_Angeles:20240113T000000
DTEND;TZID=America/Los_Angeles:20240113T000000
DTSTAMP:20260422T192131
CREATED:20230510T075007Z
LAST-MODIFIED:20230510T075007Z
UID:3775-1705104000-1705104000@rathonda.darshanacademy.org
SUMMARY:INTERNAL SPIRITUAL TALK FOR STUDENTS AND TEACHERS
DESCRIPTION:
URL:https://rathonda.darshanacademy.org/event/internal-spiritual-talk-for-students-and-teachers/
CATEGORIES:PROFESSIONAL DEVELOPMENT PROGRAMME
END:VEVENT
BEGIN:VEVENT
DTSTART;TZID=America/Los_Angeles:20240109T000000
DTEND;TZID=America/Los_Angeles:20240109T000000
DTSTAMP:20260422T192131
CREATED:20230510T075007Z
LAST-MODIFIED:20230510T075007Z
UID:3774-1704758400-1704758400@rathonda.darshanacademy.org
SUMMARY:INTERNAL SPIRITUAL TALK FOR PARENTS
DESCRIPTION:
URL:https://rathonda.darshanacademy.org/event/internal-spiritual-talk-for-parents/
CATEGORIES:PROFESSIONAL DEVELOPMENT PROGRAMME
END:VEVENT
BEGIN:VEVENT
DTSTART;TZID=America/Los_Angeles:20240107T000000
DTEND;TZID=America/Los_Angeles:20240107T000000
DTSTAMP:20260422T192131
CREATED:20230510T075007Z
LAST-MODIFIED:20230510T075007Z
UID:3773-1704585600-1704585600@rathonda.darshanacademy.org
SUMMARY:INTERNAL WORKSHOP ON DEMONSTRATION LESSONS AND BOOK REVIEW
DESCRIPTION:
URL:https://rathonda.darshanacademy.org/event/internal-workshop-on-demonstration-lessons-and-book-review-2/
CATEGORIES:PROFESSIONAL DEVELOPMENT PROGRAMME
END:VEVENT
BEGIN:VEVENT
DTSTART;TZID=America/Los_Angeles:20240106T000000
DTEND;TZID=America/Los_Angeles:20240106T000000
DTSTAMP:20260422T192131
CREATED:20230510T075007Z
LAST-MODIFIED:20230510T075007Z
UID:3772-1704499200-1704499200@rathonda.darshanacademy.org
SUMMARY:INTERNAL WORKSHOP ON METHODOLOGY
DESCRIPTION:
URL:https://rathonda.darshanacademy.org/event/internal-workshop-on-methodology-3/
CATEGORIES:PROFESSIONAL DEVELOPMENT PROGRAMME
END:VEVENT
BEGIN:VEVENT
DTSTART;TZID=America/Los_Angeles:20240105T000000
DTEND;TZID=America/Los_Angeles:20240105T000000
DTSTAMP:20260422T192131
CREATED:20230510T074951Z
LAST-MODIFIED:20230510T074951Z
UID:3771-1704412800-1704412800@rathonda.darshanacademy.org
SUMMARY:NATIONAL WORKSHOP ON SPIRITUAL CURRICULUM TEACHING TIPS
DESCRIPTION:
URL:https://rathonda.darshanacademy.org/event/national-workshop-on-spiritual-curriculum-teaching-tips-2/
CATEGORIES:PROFESSIONAL DEVELOPMENT PROGRAMME
END:VEVENT
BEGIN:VEVENT
DTSTART;TZID=America/Los_Angeles:20231230T000000
DTEND;TZID=America/Los_Angeles:20240108T000000
DTSTAMP:20260422T192131
CREATED:20230510T074951Z
LAST-MODIFIED:20230510T074951Z
UID:3770-1703894400-1704672000@rathonda.darshanacademy.org
SUMMARY:WINTER BREAK
DESCRIPTION:
URL:https://rathonda.darshanacademy.org/event/winter-break/
CATEGORIES:HOLIDAY
END:VEVENT
BEGIN:VEVENT
DTSTART;TZID=America/Los_Angeles:20231229T000000
DTEND;TZID=America/Los_Angeles:20231229T000000
DTSTAMP:20260422T192131
CREATED:20230510T074951Z
LAST-MODIFIED:20230510T074951Z
UID:3769-1703808000-1703808000@rathonda.darshanacademy.org
SUMMARY:FUN GAMES & NEW YEAR CELEBRATION (I-VII)
DESCRIPTION:
URL:https://rathonda.darshanacademy.org/event/fun-games-new-year-celebration-i-vii/
CATEGORIES:EVENT
END:VEVENT
BEGIN:VEVENT
DTSTART;TZID=America/Los_Angeles:20231225T000000
DTEND;TZID=America/Los_Angeles:20231225T000000
DTSTAMP:20260422T192131
CREATED:20230510T074951Z
LAST-MODIFIED:20230510T074951Z
UID:3768-1703462400-1703462400@rathonda.darshanacademy.org
SUMMARY:CHRISTMAS
DESCRIPTION:
URL:https://rathonda.darshanacademy.org/event/christmas/
CATEGORIES:HOLIDAY
END:VEVENT
BEGIN:VEVENT
DTSTART;TZID=America/Los_Angeles:20231223T000000
DTEND;TZID=America/Los_Angeles:20231223T000000
DTSTAMP:20260422T192131
CREATED:20230510T074951Z
LAST-MODIFIED:20230510T074951Z
UID:3767-1703289600-1703289600@rathonda.darshanacademy.org
SUMMARY:FOURTH SATURDAY
DESCRIPTION:
URL:https://rathonda.darshanacademy.org/event/fourth-saturday-5/
CATEGORIES:HOLIDAY
END:VEVENT
BEGIN:VEVENT
DTSTART;TZID=America/Los_Angeles:20231222T000000
DTEND;TZID=America/Los_Angeles:20231222T000000
DTSTAMP:20260422T192131
CREATED:20230510T074934Z
LAST-MODIFIED:20230510T074934Z
UID:3766-1703203200-1703203200@rathonda.darshanacademy.org
SUMMARY:CHRISTMAS CELEBRATION
DESCRIPTION:
URL:https://rathonda.darshanacademy.org/event/christmas-celebration/
CATEGORIES:EVENT
END:VEVENT
BEGIN:VEVENT
DTSTART;TZID=America/Los_Angeles:20231216T000000
DTEND;TZID=America/Los_Angeles:20231216T000000
DTSTAMP:20260422T192131
CREATED:20230510T074934Z
LAST-MODIFIED:20230510T074934Z
UID:3765-1702684800-1702684800@rathonda.darshanacademy.org
SUMMARY:PTM (ALL CLASSES)
DESCRIPTION:
URL:https://rathonda.darshanacademy.org/event/ptm-all-classes-3/
CATEGORIES:PTM
END:VEVENT
BEGIN:VEVENT
DTSTART;TZID=America/Los_Angeles:20231202T000000
DTEND;TZID=America/Los_Angeles:20231209T000000
DTSTAMP:20260422T192131
CREATED:20230510T074934Z
LAST-MODIFIED:20230510T074934Z
UID:3764-1701475200-1702080000@rathonda.darshanacademy.org
SUMMARY:ASSESSMENT - III CLASSES (I-V) / 2ND PERIODIC TEST (VI-VII)
DESCRIPTION:
URL:https://rathonda.darshanacademy.org/event/assessment-iii-classes-i-v-2nd-periodic-test-vi-vii/
CATEGORIES:EXAMINATION
END:VEVENT
BEGIN:VEVENT
DTSTART;TZID=America/Los_Angeles:20231130T000000
DTEND;TZID=America/Los_Angeles:20231130T000000
DTSTAMP:20260422T192131
CREATED:20230510T074934Z
LAST-MODIFIED:20230510T074934Z
UID:3763-1701302400-1701302400@rathonda.darshanacademy.org
SUMMARY:NATIONAL SPIRITUAL TALK FOR PARENTS
DESCRIPTION:
URL:https://rathonda.darshanacademy.org/event/national-spiritual-talk-for-parents-2/
CATEGORIES:PROFESSIONAL DEVELOPMENT PROGRAMME
END:VEVENT
BEGIN:VEVENT
DTSTART;TZID=America/Los_Angeles:20231127T000000
DTEND;TZID=America/Los_Angeles:20231127T000000
DTSTAMP:20260422T192131
CREATED:20230510T074934Z
LAST-MODIFIED:20230510T074934Z
UID:3762-1701043200-1701043200@rathonda.darshanacademy.org
SUMMARY:GURUNANAK DEV JI'S BIRTHDAY
DESCRIPTION:
URL:https://rathonda.darshanacademy.org/event/gurunanak-dev-jis-birthday/
CATEGORIES:HOLIDAY
END:VEVENT
BEGIN:VEVENT
DTSTART;TZID=America/Los_Angeles:20231126T000000
DTEND;TZID=America/Los_Angeles:20231126T000000
DTSTAMP:20260422T192131
CREATED:20230510T074926Z
LAST-MODIFIED:20230510T074926Z
UID:3761-1700956800-1700956800@rathonda.darshanacademy.org
SUMMARY:CONSTITUTION DAY SPL. ASSEMBLY
DESCRIPTION:
URL:https://rathonda.darshanacademy.org/event/constitution-day-spl-assembly/
CATEGORIES:EVENT
END:VEVENT
BEGIN:VEVENT
DTSTART;TZID=America/Los_Angeles:20231125T000000
DTEND;TZID=America/Los_Angeles:20231125T000000
DTSTAMP:20260422T192131
CREATED:20230510T074926Z
LAST-MODIFIED:20230510T074926Z
UID:3760-1700870400-1700870400@rathonda.darshanacademy.org
SUMMARY:FOURTH SATURDAY
DESCRIPTION:
URL:https://rathonda.darshanacademy.org/event/fourth-saturday-4/
CATEGORIES:HOLIDAY
END:VEVENT
BEGIN:VEVENT
DTSTART;TZID=America/Los_Angeles:20231124T000000
DTEND;TZID=America/Los_Angeles:20231124T000000
DTSTAMP:20260422T192131
CREATED:20230510T074926Z
LAST-MODIFIED:20230510T074926Z
UID:3759-1700784000-1700784000@rathonda.darshanacademy.org
SUMMARY:GURU TEGH BAHADUR SHAHIDI DIWAS
DESCRIPTION:
URL:https://rathonda.darshanacademy.org/event/guru-tegh-bahadur-shahidi-diwas/
CATEGORIES:HOLIDAY
END:VEVENT
BEGIN:VEVENT
DTSTART;TZID=America/Los_Angeles:20231123T000000
DTEND;TZID=America/Los_Angeles:20231123T000000
DTSTAMP:20260422T192131
CREATED:20230510T074926Z
LAST-MODIFIED:20230510T074926Z
UID:3758-1700697600-1700697600@rathonda.darshanacademy.org
SUMMARY:NATIONAL SPIRITUAL TALK FOR PARENTS
DESCRIPTION:
URL:https://rathonda.darshanacademy.org/event/national-spiritual-talk-for-parents/
CATEGORIES:PROFESSIONAL DEVELOPMENT PROGRAMME
END:VEVENT
BEGIN:VEVENT
DTSTART;TZID=America/Los_Angeles:20231118T000000
DTEND;TZID=America/Los_Angeles:20231118T000000
DTSTAMP:20260422T192131
CREATED:20230510T074926Z
LAST-MODIFIED:20230510T074926Z
UID:3757-1700265600-1700265600@rathonda.darshanacademy.org
SUMMARY:ZONAL WORKSHOP FOR TEACHERS TEACHING EVS CLASSES III-V
DESCRIPTION:
URL:https://rathonda.darshanacademy.org/event/zonal-workshop-for-teachers-teaching-evs-classes-iii-v/
CATEGORIES:PROFESSIONAL DEVELOPMENT PROGRAMME
END:VEVENT
END:VCALENDAR